BEGIN:VCALENDAR
VERSION:2.0
PRODID:-//hacksw/handcal//NONSGML v1.0//EN
BEGIN:VEVENT
UID:webmaster@cooper.edu
DTSTAMP; TZID=America/New_York:20160426T183000
ORGANIZER;CN=The Cooper Union:MAILTO:webmaster@cooper.edu
DTSTART; TZID=America/New_York:20160426T183000
DTEND; TZID=America/New_York:20160426T193000
SUMMARY:A Conversation with Anne Pasternak
DESCRIPTION:The Director of the Brooklyn Museum since 2015 and the former President and Artistic Director of Creative Time for 20 years will give a free, public talk as part of the Intradisciplinary Lecture Series
END:VEVENT
END:VCALENDAR
