BEGIN:VCALENDAR
VERSION:2.0
PRODID:-//hacksw/handcal//NONSGML v1.0//EN
BEGIN:VEVENT
UID:webmaster@cooper.edu
DTSTAMP; TZID=America/New_York:20160415T183000
ORGANIZER;CN=The Cooper Union:MAILTO:webmaster@cooper.edu
DTSTART; TZID=America/New_York:20160415T183000
DTEND; TZID=America/New_York:20160415T183000
SUMMARY:Student Lecture Series: Five Turkish Architects
DESCRIPTION:Gökhan Karakus; Han Tümertekin, Nevzat Sayin, Hasan Calislar, Murat Tabanlıoğlu, Sevki Pekin will be presenting. This event is open for students, faculty and staff of the Cooper Union. Lecture in room 315F.
END:VEVENT
END:VCALENDAR
