BEGIN:VCALENDAR
VERSION:2.0
PRODID:-//hacksw/handcal//NONSGML v1.0//EN
BEGIN:VEVENT
UID:webmaster@cooper.edu
DTSTAMP; TZID=America/New_York:20160414T183000
ORGANIZER;CN=The Cooper Union:MAILTO:webmaster@cooper.edu
DTSTART; TZID=America/New_York:20160414T183000
DTEND; TZID=America/New_York:20160414T183000
SUMMARY:Student Lecture Series: Daniel Gordon
DESCRIPTION:Daniel Gordon (b. 1980 Boston, MA; raised in San Francisco, California, USA) earned a Bachelor of Arts from Bard College in 2004, and a Master of Fine Arts from the Yale School of Art in 2006. Lecture in room 315F at 6:30PM
END:VEVENT
END:VCALENDAR
