BEGIN:VCALENDAR
VERSION:2.0
PRODID:-//hacksw/handcal//NONSGML v1.0//EN
BEGIN:VEVENT
UID:webmaster@cooper.edu
DTSTAMP; TZID=America/New_York:20160421T180000
ORGANIZER;CN=The Cooper Union:MAILTO:webmaster@cooper.edu
DTSTART; TZID=America/New_York:20160421T180000
DTEND; TZID=America/New_York:20160421T180000
SUMMARY:Heroism and Hubris
DESCRIPTION:A conversation with Chris Grimley, Michael Kubo, Michael McKinnell, Joan Ockman, Mark Pasnik, and Anthony Vidler
END:VEVENT
END:VCALENDAR
