BEGIN:VCALENDAR
VERSION:2.0
PRODID:-//hacksw/handcal//NONSGML v1.0//EN
BEGIN:VEVENT
UID:webmaster@cooper.edu
DTSTAMP; TZID=America/New_York:20160510T183000
ORGANIZER;CN=The Cooper Union:MAILTO:webmaster@cooper.edu
DTSTART; TZID=America/New_York:20160510T183000
DTEND; TZID=America/New_York:20160510T200000
SUMMARY:Pathways to Prosperity: The Future of Higher Education in an Innovative Economy
DESCRIPTION:Best-selling author and award-winning columnist Jeffrey J. Selingo delivers the 2016 John Jay Iselin Memorial Lecture. Free and open to the public
END:VEVENT
END:VCALENDAR
