BEGIN:VCALENDAR
VERSION:2.0
PRODID:-//hacksw/handcal//NONSGML v1.0//EN
BEGIN:VEVENT
UID:webmaster@cooper.edu
DTSTAMP; TZID=America/New_York:20160412T190000
ORGANIZER;CN=The Cooper Union:MAILTO:webmaster@cooper.edu
DTSTART; TZID=America/New_York:20160412T190000
DTEND; TZID=America/New_York:20160412T210000
SUMMARY:CTRL+F "Black"
DESCRIPTION:In this free, public lecture, Kimberly Drew will introduce her blog, Black Contemporary Art, and discuss the importance of oral histories, archives, and Facebook groups
END:VEVENT
END:VCALENDAR
