BEGIN:VCALENDAR
VERSION:2.0
PRODID:-//hacksw/handcal//NONSGML v1.0//EN
BEGIN:VEVENT
UID:webmaster@cooper.edu
DTSTAMP; TZID=America/New_York:20160408T183000
ORGANIZER;CN=The Cooper Union:MAILTO:webmaster@cooper.edu
DTSTART; TZID=America/New_York:20160408T183000
DTEND; TZID=America/New_York:20160408T183000
SUMMARY:Student Lecture Series: Arquitectura-G
DESCRIPTION:Arquitectura-G is an architecture studio based in Barcelona, dedicated primarily to edification and teaching. Founded in 2006 by the architects Jonathan Arnabat, Jordi Ayala -Bril, Igor Urdampilleta and Aitor Fuentes. Lecture in Room 315F.
END:VEVENT
END:VCALENDAR
