BEGIN:VCALENDAR
VERSION:2.0
PRODID:-//hacksw/handcal//NONSGML v1.0//EN
BEGIN:VEVENT
UID:webmaster@cooper.edu
DTSTAMP; TZID=America/New_York:20160428T183000
ORGANIZER;CN=The Cooper Union:MAILTO:webmaster@cooper.edu
DTSTART; TZID=America/New_York:20160428T183000
DTEND; TZID=America/New_York:20160428T200000
SUMMARY:James Traub on John Quincy Adams
DESCRIPTION:In a free, public lecture the author of a new biography of the one-term president argues that Adams’ unshakeable commitment to principle cost him the presidency, but gained him the reverence of his nation
END:VEVENT
END:VCALENDAR
