BEGIN:VCALENDAR
VERSION:2.0
PRODID:-//hacksw/handcal//NONSGML v1.0//EN
BEGIN:VEVENT
UID:webmaster@cooper.edu
DTSTAMP; TZID=America/New_York:20160401T183000
ORGANIZER;CN=The Cooper Union:MAILTO:webmaster@cooper.edu
DTSTART; TZID=America/New_York:20160401T183000
DTEND; TZID=America/New_York:20160401T183000
SUMMARY:Student Lecture Series: MOS
DESCRIPTION:The School of Architecture Student Lecture Series is made possible through a generous contribution to the School of Architecture Dean's Circle by Elise and Jeffrey Brown.
END:VEVENT
END:VCALENDAR
