BEGIN:VCALENDAR
VERSION:2.0
PRODID:-//hacksw/handcal//NONSGML v1.0//EN
BEGIN:VEVENT
UID:webmaster@cooper.edu
DTSTAMP; TZID=America/New_York:20160405T190000
ORGANIZER;CN=The Cooper Union:MAILTO:webmaster@cooper.edu
DTSTART; TZID=America/New_York:20160405T190000
DTEND; TZID=America/New_York:20160405T203000
SUMMARY:BLACK SHEEP: Painting in the Academy
DESCRIPTION:In a free, public event the painters Robert Bordo, James Brittingham A'07, James Leary A'05 and Sophy Naess A'04 discuss the role of painting in the context of today's art-making
END:VEVENT
END:VCALENDAR
