BEGIN:VCALENDAR
VERSION:2.0
PRODID:-//hacksw/handcal//NONSGML v1.0//EN
BEGIN:VEVENT
UID:webmaster@cooper.edu
DTSTAMP; TZID=America/New_York:20160409T160000
ORGANIZER;CN=The Cooper Union:MAILTO:webmaster@cooper.edu
DTSTART; TZID=America/New_York:20160409T160000
DTEND; TZID=America/New_York:20160409T190000
SUMMARY:Open Studios 2016
DESCRIPTION:Students open their studios and will be available for conversations with visitors about their work
END:VEVENT
END:VCALENDAR
