BEGIN:VCALENDAR
VERSION:2.0
PRODID:-//hacksw/handcal//NONSGML v1.0//EN
BEGIN:VEVENT
UID:webmaster@cooper.edu
DTSTAMP; TZID=America/New_York:20160427T190000
ORGANIZER;CN=The Cooper Union:MAILTO:webmaster@cooper.edu
DTSTART; TZID=America/New_York:20160427T190000
DTEND; TZID=America/New_York:20160427T230000
SUMMARY:The 100th Anniversary of the Easter Rising in Ireland
DESCRIPTION:A free, public two-day event examining Ireland's history and future. Gerry Adams TD, president of Sinn Féin, will speak
END:VEVENT
END:VCALENDAR
BEGIN:VCALENDAR
VERSION:2.0
PRODID:-//hacksw/handcal//NONSGML v1.0//EN
BEGIN:VEVENT
UID:webmaster@cooper.edu
DTSTAMP; TZID=America/New_York:20160428T190000
ORGANIZER;CN=The Cooper Union:MAILTO:webmaster@cooper.edu
DTSTART; TZID=America/New_York:20160428T190000
DTEND; TZID=America/New_York:20160428T230000
SUMMARY:The 100th Anniversary of the Easter Rising in Ireland
DESCRIPTION:A free, public two-day event examining Ireland's history and future. Gerry Adams TD, president of Sinn Féin, will speak
END:VEVENT
END:VCALENDAR
