BEGIN:VCALENDAR
VERSION:2.0
PRODID:-//hacksw/handcal//NONSGML v1.0//EN
BEGIN:VEVENT
UID:webmaster@cooper.edu
DTSTAMP; TZID=America/New_York:20160322T190000
ORGANIZER;CN=The Cooper Union:MAILTO:webmaster@cooper.edu
DTSTART; TZID=America/New_York:20160322T190000
DTEND; TZID=America/New_York:20160322T203000
SUMMARY:The Griot, The Parrhesiac, The Cannibal, The Oversharer, The Artist, The Realist
DESCRIPTION:Devin Kenny A'09 will deliver a free, public lecture as part of the Intradisciplinary Seminar series
END:VEVENT
END:VCALENDAR
