BEGIN:VCALENDAR
VERSION:2.0
PRODID:-//hacksw/handcal//NONSGML v1.0//EN
BEGIN:VEVENT
UID:webmaster@cooper.edu
DTSTAMP; TZID=America/New_York:20160202T120000
ORGANIZER;CN=The Cooper Union:MAILTO:webmaster@cooper.edu
DTSTART; TZID=America/New_York:20160202T120000
DTEND; TZID=America/New_York:20160202T133000
SUMMARY:In Conversation with Elizabeth Diller AR'79 and Ricardo Scofidio AR'55
DESCRIPTION:A lecture by Elizabeth Diller and Ricardo Scofidio
END:VEVENT
END:VCALENDAR
