BEGIN:VCALENDAR
VERSION:2.0
PRODID:-//hacksw/handcal//NONSGML v1.0//EN
BEGIN:VEVENT
UID:webmaster@cooper.edu
DTSTAMP; TZID=America/New_York:20160308T190000
ORGANIZER;CN=The Cooper Union:MAILTO:webmaster@cooper.edu
DTSTART; TZID=America/New_York:20160308T190000
DTEND; TZID=America/New_York:20160308T203000
SUMMARY:The Cooper Union: The (Un)making of a Civic Institution
DESCRIPTION:Peter Buckley and Day Gleeson present a free, public lecture examining the intent behind Peter Cooper's proposed radical experiment in urban education
END:VEVENT
END:VCALENDAR
