BEGIN:VCALENDAR
VERSION:2.0
PRODID:-//hacksw/handcal//NONSGML v1.0//EN
BEGIN:VEVENT
UID:webmaster@cooper.edu
DTSTAMP; TZID=America/New_York:20160227T120000
ORGANIZER;CN=The Cooper Union:MAILTO:webmaster@cooper.edu
DTSTART; TZID=America/New_York:20160227T120000
DTEND; TZID=America/New_York:20160227T180000
SUMMARY:Encounters That Never Happened
DESCRIPTION:A Public Conference on Closed Worlds
END:VEVENT
END:VCALENDAR
