BEGIN:VCALENDAR
VERSION:2.0
PRODID:-//hacksw/handcal//NONSGML v1.0//EN
BEGIN:VEVENT
UID:webmaster@cooper.edu
DTSTAMP; TZID=America/New_York:20160315T183000
ORGANIZER;CN=The Cooper Union:MAILTO:webmaster@cooper.edu
DTSTART; TZID=America/New_York:20160315T183000
DTEND; TZID=America/New_York:20160315T200000
SUMMARY:Author Talk: The Serengeti Rules
DESCRIPTION:The renowned biologist Sean B. Carroll talks with Carl Zimmer, the New York Times science columnist, about how the rules and logic of the human body might be used to heal our ailing planet. Free and open to the public
END:VEVENT
END:VCALENDAR
