BEGIN:VCALENDAR
VERSION:2.0
PRODID:-//hacksw/handcal//NONSGML v1.0//EN
BEGIN:VEVENT
UID:webmaster@cooper.edu
DTSTAMP; TZID=America/New_York:20160223T190000
ORGANIZER;CN=The Cooper Union:MAILTO:webmaster@cooper.edu
DTSTART; TZID=America/New_York:20160223T190000
DTEND; TZID=America/New_York:20160223T203000
SUMMARY:Intradisciplinary Seminar: Jonah Bokaer
DESCRIPTION:The choreographer discusses how dance and movement can be correlated to architecture and visual patterns in a free, public lecture
END:VEVENT
END:VCALENDAR
