BEGIN:VCALENDAR
VERSION:2.0
PRODID:-//hacksw/handcal//NONSGML v1.0//EN
BEGIN:VEVENT
UID:webmaster@cooper.edu
DTSTAMP; TZID=America/New_York:20160216T190000
ORGANIZER;CN=The Cooper Union:MAILTO:webmaster@cooper.edu
DTSTART; TZID=America/New_York:20160216T190000
DTEND; TZID=America/New_York:20160216T203000
SUMMARY:Color & Light: A Family Melodrama
DESCRIPTION:In a free, public lecture Jarrett Earnest will discuss the idiosyncrasies of color as we experience it out in the world and in our lives
END:VEVENT
END:VCALENDAR
