BEGIN:VCALENDAR
VERSION:2.0
PRODID:-//hacksw/handcal//NONSGML v1.0//EN
BEGIN:VEVENT
UID:webmaster@cooper.edu
DTSTAMP; TZID=America/New_York:20160209T190000
ORGANIZER;CN=The Cooper Union:MAILTO:webmaster@cooper.edu
DTSTART; TZID=America/New_York:20160209T190000
DTEND; TZID=America/New_York:20160209T200000
SUMMARY:u shld kill yrself
DESCRIPTION:In a free, public lecture, artists Jayson Musson and Sean J Patrick Carney discuss humor and the abject as cornerstones in their respective approaches to producing works
END:VEVENT
END:VCALENDAR
