BEGIN:VCALENDAR
VERSION:2.0
PRODID:-//hacksw/handcal//NONSGML v1.0//EN
BEGIN:VEVENT
UID:webmaster@cooper.edu
DTSTAMP; TZID=America/New_York:20160301T183000
ORGANIZER;CN=The Cooper Union:MAILTO:webmaster@cooper.edu
DTSTART; TZID=America/New_York:20160301T183000
DTEND; TZID=America/New_York:20160301T200000
SUMMARY:All the Single Ladies
DESCRIPTION:A free, public discussion on how women have radically shaped our nation featuring Elle's Robbie Myers, author Rebecca Traister and more
END:VEVENT
END:VCALENDAR
