BEGIN:VCALENDAR
VERSION:2.0
PRODID:-//hacksw/handcal//NONSGML v1.0//EN
BEGIN:VEVENT
UID:webmaster@cooper.edu
DTSTAMP; TZID=America/New_York:20160203T190000
ORGANIZER;CN=The Cooper Union:MAILTO:webmaster@cooper.edu
DTSTART; TZID=America/New_York:20160203T190000
DTEND; TZID=America/New_York:20160203T190000
SUMMARY:Annabelle Selldorf: Common Ground
DESCRIPTION:Lecture by Annabelle Seldorf, founding principal of New York-based Selldorf Architects.
END:VEVENT
END:VCALENDAR
