BEGIN:VCALENDAR
VERSION:2.0
PRODID:-//hacksw/handcal//NONSGML v1.0//EN
BEGIN:VEVENT
UID:webmaster@cooper.edu
DTSTAMP; TZID=America/New_York:20160202T190000
ORGANIZER;CN=The Cooper Union:MAILTO:webmaster@cooper.edu
DTSTART; TZID=America/New_York:20160202T190000
DTEND; TZID=America/New_York:20160202T203000
SUMMARY:Character in Art
DESCRIPTION:In a free, public lecture David Salle, a painter, writer, set designer and film maker, looks at "failed" paintings and asks, "How does one form an artistic identity?"
END:VEVENT
END:VCALENDAR
