BEGIN:VCALENDAR
VERSION:2.0
PRODID:-//hacksw/handcal//NONSGML v1.0//EN
BEGIN:VEVENT
UID:webmaster@cooper.edu
DTSTAMP; TZID=America/New_York:20160126T190000
ORGANIZER;CN=The Cooper Union:MAILTO:webmaster@cooper.edu
DTSTART; TZID=America/New_York:20160126T190000
DTEND; TZID=America/New_York:20160126T203000
SUMMARY:Working Definitions, or How to Achieve the Seven Things to Avoid
DESCRIPTION:Seth Cameron A'04, founding member of the Bruce High Quality Foundation, gives a free, public lecture as part of the Spring Intradisciplinary Seminar series
END:VEVENT
END:VCALENDAR
