BEGIN:VCALENDAR
VERSION:2.0
PRODID:-//hacksw/handcal//NONSGML v1.0//EN
BEGIN:VEVENT
UID:webmaster@cooper.edu
DTSTAMP; TZID=America/New_York:20160222T183000
ORGANIZER;CN=The Cooper Union:MAILTO:webmaster@cooper.edu
DTSTART; TZID=America/New_York:20160222T183000
DTEND; TZID=America/New_York:20160222T203000
SUMMARY:Learning from Letraset
DESCRIPTION:In a free, public lecture Dan Rhatigan looks at the Letraset brand of rub-down type and other graphic supplies, showing how they put the tools of professional design into everyday hands
END:VEVENT
END:VCALENDAR
