BEGIN:VCALENDAR
VERSION:2.0
PRODID:-//hacksw/handcal//NONSGML v1.0//EN
BEGIN:VEVENT
UID:webmaster@cooper.edu
DTSTAMP; TZID=America/New_York:20160201T183000
ORGANIZER;CN=The Cooper Union:MAILTO:webmaster@cooper.edu
DTSTART; TZID=America/New_York:20160201T183000
DTEND; TZID=America/New_York:20160201T203000
SUMMARY:La Typographie Moderne
DESCRIPTION:In a free, public lecture typeface designer Jean-Baptiste Levée presents an overview of references, inspiration sources and work methods displayed through recent projects
END:VEVENT
END:VCALENDAR
