BEGIN:VCALENDAR
VERSION:2.0
PRODID:-//hacksw/handcal//NONSGML v1.0//EN
BEGIN:VEVENT
UID:webmaster@cooper.edu
DTSTAMP; TZID=America/New_York:20151212T100000
ORGANIZER;CN=The Cooper Union:MAILTO:webmaster@cooper.edu
DTSTART; TZID=America/New_York:20151212T100000
DTEND; TZID=America/New_York:20151212T140000
SUMMARY:Winter 2016 Pre-College Art Program Portfolio Review
DESCRIPTION:High school sophomores, juniors and seniors are invited to bring their portfolios as part of the application for a full-scholarship six-week program
END:VEVENT
END:VCALENDAR
