BEGIN:VCALENDAR
VERSION:2.0
PRODID:-//hacksw/handcal//NONSGML v1.0//EN
BEGIN:VEVENT
UID:webmaster@cooper.edu
DTSTAMP; TZID=America/New_York:20151218T090000
ORGANIZER;CN=The Cooper Union:MAILTO:webmaster@cooper.edu
DTSTART; TZID=America/New_York:20151218T090000
DTEND; TZID=America/New_York:20151218T103000
SUMMARY:In Conversation: Justice Stephen Breyer and Henry N. Cobb
DESCRIPTION:The Supreme Court Justice talks with the renowned architect about the civic importance and symbolic power of architecture for the judiciary. Free and open to the public
END:VEVENT
END:VCALENDAR
