BEGIN:VCALENDAR
VERSION:2.0
PRODID:-//hacksw/handcal//NONSGML v1.0//EN
BEGIN:VEVENT
UID:webmaster@cooper.edu
DTSTAMP; TZID=America/New_York:20151201T190000
ORGANIZER;CN=The Cooper Union:MAILTO:webmaster@cooper.edu
DTSTART; TZID=America/New_York:20151201T190000
DTEND; TZID=America/New_York:20151201T203000
SUMMARY:The Quarry No Longer Exists
DESCRIPTION:The Interdisciplinary Seminar presents a free, public presentation by Victoria Sobel A'13 and Casey Gollan A'13
END:VEVENT
END:VCALENDAR
