BEGIN:VCALENDAR
VERSION:2.0
PRODID:-//hacksw/handcal//NONSGML v1.0//EN
BEGIN:VEVENT
UID:webmaster@cooper.edu
DTSTAMP; TZID=America/New_York:20151209T170000
ORGANIZER;CN=The Cooper Union:MAILTO:webmaster@cooper.edu
DTSTART; TZID=America/New_York:20151209T170000
DTEND; TZID=America/New_York:20151209T190000
SUMMARY:Homage to Dore Ashton 
DESCRIPTION:Celebrate the work of renowned art critic Dore Ashton through selected readings of her publications, short papers inspired by her writings and a new video by Alfredo Jaar
END:VEVENT
END:VCALENDAR
