BEGIN:VCALENDAR
VERSION:2.0
PRODID:-//hacksw/handcal//NONSGML v1.0//EN
BEGIN:VEVENT
UID:webmaster@cooper.edu
DTSTAMP; TZID=America/New_York:20151217T180000
ORGANIZER;CN=The Cooper Union:MAILTO:webmaster@cooper.edu
DTSTART; TZID=America/New_York:20151217T180000
DTEND; TZID=America/New_York:20151217T200000
SUMMARY:The Chrysler Building: Celebrating a New York Icon
DESCRIPTION:The Art Deco Society of New York celebrates the 85th anniversary of the jewel in the crown of New York City’s skyline with an illustrated talk
END:VEVENT
END:VCALENDAR
