BEGIN:VCALENDAR
VERSION:2.0
PRODID:-//hacksw/handcal//NONSGML v1.0//EN
BEGIN:VEVENT
UID:webmaster@cooper.edu
DTSTAMP; TZID=America/New_York:20151130T190000
ORGANIZER;CN=The Cooper Union:MAILTO:webmaster@cooper.edu
DTSTART; TZID=America/New_York:20151130T190000
DTEND; TZID=America/New_York:20151130T210000
SUMMARY:An Evening with M. Lamar
DESCRIPTION:M. Lamar, who explores, "narratives of radical racial and sexual becomings," performs and discusses his work in a free, public event
END:VEVENT
END:VCALENDAR
