BEGIN:VCALENDAR
VERSION:2.0
PRODID:-//hacksw/handcal//NONSGML v1.0//EN
BEGIN:VEVENT
UID:webmaster@cooper.edu
DTSTAMP; TZID=America/New_York:20151116T183000
ORGANIZER;CN=The Cooper Union:MAILTO:webmaster@cooper.edu
DTSTART; TZID=America/New_York:20151116T183000
DTEND; TZID=America/New_York:20151116T200000
SUMMARY:The Invisible History of the Human Race
DESCRIPTION:Author Christine Kenneally discusses her latest book, subtitled, "How DNA and History Shape Our Identities and Our Futures," in a free, public lecture
END:VEVENT
END:VCALENDAR
