BEGIN:VCALENDAR
VERSION:2.0
PRODID:-//hacksw/handcal//NONSGML v1.0//EN
BEGIN:VEVENT
UID:webmaster@cooper.edu
DTSTAMP; TZID=America/New_York:20151203T183000
ORGANIZER;CN=The Cooper Union:MAILTO:webmaster@cooper.edu
DTSTART; TZID=America/New_York:20151203T183000
DTEND; TZID=America/New_York:20151203T200000
SUMMARY:Author Talk: Sinatra's Century
DESCRIPTION:In a free, public event the poet and critic David Lehman discusses his new book, "Sinatra's Century: One Hundred Notes on the Man and His World,"
END:VEVENT
END:VCALENDAR
