BEGIN:VCALENDAR
VERSION:2.0
PRODID:-//hacksw/handcal//NONSGML v1.0//EN
BEGIN:VEVENT
UID:webmaster@cooper.edu
DTSTAMP; TZID=America/New_York:20151119T180000
ORGANIZER;CN=The Cooper Union:MAILTO:webmaster@cooper.edu
DTSTART; TZID=America/New_York:20151119T180000
DTEND; TZID=America/New_York:20151119T200000
SUMMARY:2015 Fuller Challenge Award Ceremony
DESCRIPTION:The Buckminster Fuller Institute is pleased to celebrate the 2015 Fuller Challenge Grand Prize, awarded to GreenWave.
END:VEVENT
END:VCALENDAR
