BEGIN:VCALENDAR
VERSION:2.0
PRODID:-//hacksw/handcal//NONSGML v1.0//EN
BEGIN:VEVENT
UID:webmaster@cooper.edu
DTSTAMP; TZID=America/New_York:20151104T190000
ORGANIZER;CN=The Cooper Union:MAILTO:webmaster@cooper.edu
DTSTART; TZID=America/New_York:20151104T190000
DTEND; TZID=America/New_York:20151104T210000
SUMMARY:Current Work: Michael Bierut
DESCRIPTION:Michael Bierut has worked with architects and has faced the challenge of how ideas realized in three dimensions can be conveyed compellingly in two.
END:VEVENT
END:VCALENDAR
