BEGIN:VCALENDAR
VERSION:2.0
PRODID:-//hacksw/handcal//NONSGML v1.0//EN
BEGIN:VEVENT
UID:webmaster@cooper.edu
DTSTAMP; TZID=America/New_York:20151112T193000
ORGANIZER;CN=The Cooper Union:MAILTO:webmaster@cooper.edu
DTSTART; TZID=America/New_York:20151112T193000
DTEND; TZID=America/New_York:20151112T220000
SUMMARY:Declaration of Sentiments: The Remix
DESCRIPTION:An evening of music, performance, art, and oratory honoring Elizabeth Cady Stanton’s 200th birthday will kick off New York City’s five-year celebration of the Women’s Suffrage Centennial
END:VEVENT
END:VCALENDAR
