BEGIN:VCALENDAR
VERSION:2.0
PRODID:-//hacksw/handcal//NONSGML v1.0//EN
BEGIN:VEVENT
UID:webmaster@cooper.edu
DTSTAMP; TZID=America/New_York:20151027T190000
ORGANIZER;CN=The Cooper Union:MAILTO:webmaster@cooper.edu
DTSTART; TZID=America/New_York:20151027T190000
DTEND; TZID=America/New_York:20151027T203000
SUMMARY:Interdisciplinary Seminar: Nancy Davenport
DESCRIPTION:In free, pubic talk, the artist Nancy Davenport will discuss her multi-media work and her recent book project "WORLD TO WIN  (Security Council Conversations)," made during a three year period of shooting at the United Nations Headquarters in New York
END:VEVENT
END:VCALENDAR
