BEGIN:VCALENDAR
VERSION:2.0
PRODID:-//hacksw/handcal//NONSGML v1.0//EN
BEGIN:VEVENT
UID:webmaster@cooper.edu
DTSTAMP; TZID=America/New_York:20151106T183000
ORGANIZER;CN=The Cooper Union:MAILTO:webmaster@cooper.edu
DTSTART; TZID=America/New_York:20151106T183000
DTEND; TZID=America/New_York:20151106T200000
SUMMARY:Tim Flannery on "An Atmosphere of Hope"
DESCRIPTION:The author of the international bestseller "The Weather Makers" gives a free public talk based on his new book about searching for solutions to the climate crisis
END:VEVENT
END:VCALENDAR
