BEGIN:VCALENDAR
VERSION:2.0
PRODID:-//hacksw/handcal//NONSGML v1.0//EN
BEGIN:VEVENT
UID:webmaster@cooper.edu
DTSTAMP; TZID=America/New_York:20151207T183000
ORGANIZER;CN=The Cooper Union:MAILTO:webmaster@cooper.edu
DTSTART; TZID=America/New_York:20151207T183000
DTEND; TZID=America/New_York:20151207T203000
SUMMARY:An H&Co Double Bill
DESCRIPTION:Sara Soskolne, a senior designer at Hoefler & Co, takes you behind the scenes of two recently released typeface families -- Quarto and Gotham Greek & Cyrillic -- in a free, public lecture
END:VEVENT
END:VCALENDAR
