BEGIN:VCALENDAR
VERSION:2.0
PRODID:-//hacksw/handcal//NONSGML v1.0//EN
BEGIN:VEVENT
UID:webmaster@cooper.edu
DTSTAMP; TZID=America/New_York:20151102T183000
ORGANIZER;CN=The Cooper Union:MAILTO:webmaster@cooper.edu
DTSTART; TZID=America/New_York:20151102T183000
DTEND; TZID=America/New_York:20151102T203000
SUMMARY:It Began In Brooklyn: From A to Z & Beyond
DESCRIPTION:Michael Doret A'67, one of the most celebrated practitioners of "integrated letterforms" who designed the logo for the Knicks, many TIME magazine covers and album covers for the likes of KISS, delivers a free, public talk about his influences
END:VEVENT
END:VCALENDAR
