BEGIN:VCALENDAR
VERSION:2.0
PRODID:-//hacksw/handcal//NONSGML v1.0//EN
BEGIN:VEVENT
UID:webmaster@cooper.edu
DTSTAMP; TZID=America/New_York:20151026T183000
ORGANIZER;CN=The Cooper Union:MAILTO:webmaster@cooper.edu
DTSTART; TZID=America/New_York:20151026T183000
DTEND; TZID=America/New_York:20151026T203000
SUMMARY:How Aldus Manutius Saved Western Civilization
DESCRIPTION:A free, public lecture on the 15th-century founder of the Aldine Press, the first to print nearly the entire canon of ancient Greece, thus preserving it for posterity
END:VEVENT
END:VCALENDAR
