BEGIN:VCALENDAR
VERSION:2.0
PRODID:-//hacksw/handcal//NONSGML v1.0//EN
BEGIN:VEVENT
UID:webmaster@cooper.edu
DTSTAMP; TZID=America/New_York:20151102T180000
ORGANIZER;CN=The Cooper Union:MAILTO:webmaster@cooper.edu
DTSTART; TZID=America/New_York:20151102T180000
DTEND; TZID=America/New_York:20151102T200000
SUMMARY:Author Talk: St. Marks Is Dead
DESCRIPTION:Author and journalist Ada Calhoun discusses her new book recounting the history of St. Marks Place, the famed Manhattan strip between 3rd Avenue and Avenue A
END:VEVENT
END:VCALENDAR
