BEGIN:VCALENDAR
VERSION:2.0
PRODID:-//hacksw/handcal//NONSGML v1.0//EN
BEGIN:VEVENT
UID:webmaster@cooper.edu
DTSTAMP; TZID=America/New_York:20151104T183000
ORGANIZER;CN=The Cooper Union:MAILTO:webmaster@cooper.edu
DTSTART; TZID=America/New_York:20151104T183000
DTEND; TZID=America/New_York:20151104T200000
SUMMARY:Salon: Printed Matter
DESCRIPTION:Amos Mac, photographer, writer, and co-founder of Original Plumbing, the quarterly publication documenting the culture of transgender men, and BYOB co-curator Jeanne Vaccaro facilitate a pop-up salon on transgender printed matter.
END:VEVENT
END:VCALENDAR
