BEGIN:VCALENDAR
VERSION:2.0
PRODID:-//hacksw/handcal//NONSGML v1.0//EN
BEGIN:VEVENT
UID:webmaster@cooper.edu
DTSTAMP; TZID=America/New_York:20151103T190000
ORGANIZER;CN=The Cooper Union:MAILTO:webmaster@cooper.edu
DTSTART; TZID=America/New_York:20151103T190000
DTEND; TZID=America/New_York:20151103T203000
SUMMARY:Kaja Silverman: a Conversation (Part I)
DESCRIPTION:Walid Raad speaks with the author of "The Miracle of Analogy or The History of Photography, Part 1" about photography, psychoanalysis, ideology, writing, and other creative acts
END:VEVENT
END:VCALENDAR
