BEGIN:VCALENDAR
VERSION:2.0
PRODID:-//hacksw/handcal//NONSGML v1.0//EN
BEGIN:VEVENT
UID:webmaster@cooper.edu
DTSTAMP; TZID=America/New_York:20151020T190000
ORGANIZER;CN=The Cooper Union:MAILTO:webmaster@cooper.edu
DTSTART; TZID=America/New_York:20151020T190000
DTEND; TZID=America/New_York:20151020T203000
SUMMARY:The Leaking Subject
DESCRIPTION:A free, public talk by Tarek El-Ariss exploring leaking as a conceptual framework for rethinking contemporary writing practices and critiques of power
END:VEVENT
END:VCALENDAR
