BEGIN:VCALENDAR
VERSION:2.0
PRODID:-//hacksw/handcal//NONSGML v1.0//EN
BEGIN:VEVENT
UID:webmaster@cooper.edu
DTSTAMP; TZID=America/New_York:20150929T190000
ORGANIZER;CN=The Cooper Union:MAILTO:webmaster@cooper.edu
DTSTART; TZID=America/New_York:20150929T190000
DTEND; TZID=America/New_York:20150929T203000
SUMMARY:Using the Land as its Own Map: Art on the 1:1 Scale
DESCRIPTION:A free, public lecture by Stephen Wright on the growing number of contemporary practices which break the regime of representation and the reduced-scale paradigm
END:VEVENT
END:VCALENDAR
