BEGIN:VCALENDAR
VERSION:2.0
PRODID:-//hacksw/handcal//NONSGML v1.0//EN
BEGIN:VEVENT
UID:webmaster@cooper.edu
DTSTAMP; TZID=America/New_York:20151114T185500
ORGANIZER;CN=The Cooper Union:MAILTO:webmaster@cooper.edu
DTSTART; TZID=America/New_York:20151114T185500
DTEND; TZID=America/New_York:20151114T210000
SUMMARY:Artist Talk & Selections from "Happy Birthday, Marsha!"
DESCRIPTION:A free, public screening and discussion of scenes from the film about the legendary transgender artist and activist Marsha "Pay it No Mind" Johnson
END:VEVENT
END:VCALENDAR
