BEGIN:VCALENDAR
VERSION:2.0
PRODID:-//hacksw/handcal//NONSGML v1.0//EN
BEGIN:VEVENT
UID:webmaster@cooper.edu
DTSTAMP; TZID=America/New_York:20151105T183000
ORGANIZER;CN=The Cooper Union:MAILTO:webmaster@cooper.edu
DTSTART; TZID=America/New_York:20151105T183000
DTEND; TZID=America/New_York:20151105T203000
SUMMARY:TransEuphoria Now
DESCRIPTION:A free, public conversation about the legacy of Chloe Duzbilo (1960-2011) with Justin Vivian Bond, Buzz Slutsky and Jeffery Green
END:VEVENT
END:VCALENDAR
