BEGIN:VCALENDAR
VERSION:2.0
PRODID:-//hacksw/handcal//NONSGML v1.0//EN
BEGIN:VEVENT
UID:webmaster@cooper.edu
DTSTAMP; TZID=America/New_York:20151024T190000
ORGANIZER;CN=The Cooper Union:MAILTO:webmaster@cooper.edu
DTSTART; TZID=America/New_York:20151024T190000
DTEND; TZID=America/New_York:20151024T210000
SUMMARY:"The Queen:" a Screening and Conversation
DESCRIPTION:A screening of "The Queen," (1968) about a cross-country drag competition organized by Flawless Sabrina, will be followed by a conversation with the artist, producer, activist, and cultural icon
END:VEVENT
END:VCALENDAR
